BEGIN:VCALENDAR
VERSION:2.0
PRODID:-//BKV Heimstättensiedlung - ECPv6.15.20//NONSGML v1.0//EN
CALSCALE:GREGORIAN
METHOD:PUBLISH
X-ORIGINAL-URL:https://siedlerkerb.de
X-WR-CALDESC:Veranstaltungen für BKV Heimstättensiedlung
REFRESH-INTERVAL;VALUE=DURATION:PT1H
X-Robots-Tag:noindex
X-PUBLISHED-TTL:PT1H
BEGIN:VTIMEZONE
TZID:Europe/Berlin
BEGIN:DAYLIGHT
TZOFFSETFROM:+0100
TZOFFSETTO:+0200
TZNAME:CEST
DTSTART:20230326T010000
END:DAYLIGHT
BEGIN:STANDARD
TZOFFSETFROM:+0200
TZOFFSETTO:+0100
TZNAME:CET
DTSTART:20231029T010000
END:STANDARD
BEGIN:DAYLIGHT
TZOFFSETFROM:+0100
TZOFFSETTO:+0200
TZNAME:CEST
DTSTART:20240331T010000
END:DAYLIGHT
BEGIN:STANDARD
TZOFFSETFROM:+0200
TZOFFSETTO:+0100
TZNAME:CET
DTSTART:20241027T010000
END:STANDARD
BEGIN:DAYLIGHT
TZOFFSETFROM:+0100
TZOFFSETTO:+0200
TZNAME:CEST
DTSTART:20250330T010000
END:DAYLIGHT
BEGIN:STANDARD
TZOFFSETFROM:+0200
TZOFFSETTO:+0100
TZNAME:CET
DTSTART:20251026T010000
END:STANDARD
END:VTIMEZONE
BEGIN:VEVENT
DTSTART;TZID=Europe/Berlin:20240831T193000
DTEND;TZID=Europe/Berlin:20240831T193000
DTSTAMP:20260421T215831
CREATED:20240723T141520Z
LAST-MODIFIED:20240730T120405Z
UID:1696-1725132600-1725132600@siedlerkerb.de
SUMMARY:Auftritt der Band LAUDER
DESCRIPTION:Gude Siedlung\,\nwir dürfen zum ersten Mal live die Band LAUDER bei uns begrüßen. \nColdplay klingt nach Queen? Rihanna im Duett mit Faithless? Das kann nicht sein? Doch\, kann sein. Das ist LAUDER! \nRockige Neuinterpretationen von Klassikern aus verschiedenen musikalischen Sparten wie Rock\, Pop\, Soul etc. machen den Unterschied zu anderen Coverbands. Natürlich kommen auch Dauerbrenner von ACDC\, Kings of Leon oder Billy Idol in authentischen Versionen zum Zug. Trotzdem überrascht der Brückenschlag zwischen Rockmusik und anderen Stilrichtungen im unverwechselbar druckvollen Gewand immer wieder! \nLive auf der Siedlerkerb!  \nInstagram \nFacebook \nWebsite
URL:https://siedlerkerb.de/event/lauder_2024/
LOCATION:Kerbplatz der Siedlerkerb\, Heimstättenweg 99\, Darmstadt\, 64295
CATEGORIES:BKV
ATTACH;FMTTYPE=image/jpeg:https://siedlerkerb.de/wp-content/uploads/2024/07/lauder.jpg
END:VEVENT
END:VCALENDAR